BEGIN:VCALENDAR
VERSION:2.0
PRODID:-//Sunny Sky Equine Services - ECPv6.15.18//NONSGML v1.0//EN
CALSCALE:GREGORIAN
METHOD:PUBLISH
X-ORIGINAL-URL:https://sunnyskyequine.com
X-WR-CALDESC:Events for Sunny Sky Equine Services
REFRESH-INTERVAL;VALUE=DURATION:PT1H
X-Robots-Tag:noindex
X-PUBLISHED-TTL:PT1H
BEGIN:VTIMEZONE
TZID:UTC
BEGIN:STANDARD
TZOFFSETFROM:+0000
TZOFFSETTO:+0000
TZNAME:UTC
DTSTART:20250101T000000
END:STANDARD
END:VTIMEZONE
BEGIN:VEVENT
DTSTART;TZID=UTC:20260518T080000
DTEND;TZID=UTC:20260518T170000
DTSTAMP:20260423T191713
CREATED:20260326T174141Z
LAST-MODIFIED:20260326T174320Z
UID:1530-1779091200-1779123600@sunnyskyequine.com
SUMMARY:Western Schooling Show
DESCRIPTION:Everyone welcome to join! Contact Angelique at sunnyskyequine@gmail.com for more information.
URL:https://sunnyskyequine.com/event/western/
LOCATION:Sunny Sky Equine\, 15 Rodeo Drive\, Whitehorse\, YT\, 1A 5G9\, Canada
CATEGORIES:Shows
ATTACH;FMTTYPE=image/png:https://sunnyskyequine.com/wp-content/uploads/2026/03/5-1.png
ORGANIZER;CN="Angelique Bjork":MAILTO:barrelracingangel101@hotmail.ca
END:VEVENT
END:VCALENDAR