BEGIN:VCALENDAR
VERSION:2.0
PRODID:-//Sunny Sky Equine Services - ECPv6.15.18//NONSGML v1.0//EN
CALSCALE:GREGORIAN
METHOD:PUBLISH
X-ORIGINAL-URL:https://sunnyskyequine.com
X-WR-CALDESC:Events for Sunny Sky Equine Services
REFRESH-INTERVAL;VALUE=DURATION:PT1H
X-Robots-Tag:noindex
X-PUBLISHED-TTL:PT1H
BEGIN:VTIMEZONE
TZID:UTC
BEGIN:STANDARD
TZOFFSETFROM:+0000
TZOFFSETTO:+0000
TZNAME:UTC
DTSTART:20250101T000000
END:STANDARD
END:VTIMEZONE
BEGIN:VEVENT
DTSTART;TZID=UTC:20260516T080000
DTEND;TZID=UTC:20260517T170000
DTSTAMP:20260423T210950
CREATED:20260326T174005Z
LAST-MODIFIED:20260326T174005Z
UID:1528-1778918400-1779037200@sunnyskyequine.com
SUMMARY:Western Schooling Show Clinic
DESCRIPTION:Clinic will be hosted by Sunny Sky Equine and coached by Alicia Harper. \nContact Angelique at sunnyskyequine@gmail.com for more information! \nAlicia Harper of Prince George\, BC has been an equine professional for over 20 years. Alicia holds the following certifications: EC High Performance Coach\, EC Competition Coach English\, EC Competition Coach Western. Besides coaching; Alicia is also a General Performance Judge\, Coach Developer\, NRHA Professional Trainer & EC Rider Level Evaluator. \nOver her career\, Alicia has ridden and competed in almost every province in Canada in a variety of disciplines including eventing\, dressage\, hunters\, jumpers and all Western disciplines. She has shown breed in Arabs\, Quarter Horses\, Paints and Appaloosas as well. \nHylee Training\, training horses\, teaching lessons or mentoring up-and-coming coaches. When she is not there – she is off teaching clinics or judging horse shows around BC.
URL:https://sunnyskyequine.com/event/western-schooling-show-clinic/
LOCATION:Sunny Sky Equine\, 15 Rodeo Drive\, Whitehorse\, YT\, 1A 5G9\, Canada
CATEGORIES:Clinics
ATTACH;FMTTYPE=image/png:https://sunnyskyequine.com/wp-content/uploads/2026/03/4.png
ORGANIZER;CN="Angelique Bjork":MAILTO:barrelracingangel101@hotmail.ca
END:VEVENT
END:VCALENDAR