BEGIN:VCALENDAR
VERSION:2.0
PRODID:-//Sunny Sky Equine Services - ECPv6.15.18//NONSGML v1.0//EN
CALSCALE:GREGORIAN
METHOD:PUBLISH
X-WR-CALNAME:Sunny Sky Equine Services
X-ORIGINAL-URL:https://sunnyskyequine.com
X-WR-CALDESC:Events for Sunny Sky Equine Services
REFRESH-INTERVAL;VALUE=DURATION:PT1H
X-Robots-Tag:noindex
X-PUBLISHED-TTL:PT1H
BEGIN:VTIMEZONE
TZID:UTC
BEGIN:STANDARD
TZOFFSETFROM:+0000
TZOFFSETTO:+0000
TZNAME:UTC
DTSTART:20250101T000000
END:STANDARD
END:VTIMEZONE
BEGIN:VEVENT
DTSTART;VALUE=DATE:20260509
DTEND;VALUE=DATE:20260511
DTSTAMP:20260423T225307
CREATED:20220414T223259Z
LAST-MODIFIED:20260326T170542Z
UID:774-1778284800-1778457599@sunnyskyequine.com
SUMMARY:Kick Off Clinic with Angelique
DESCRIPTION:Bring your horse or ride one of ours and join us for our best adventure. \nContact Angelique @ sunnyskyequine@gmail.com for more information! \n  \n  \n 
URL:https://sunnyskyequine.com/event/overnight-camp/
LOCATION:Sunny Sky Equine\, 15 Rodeo Drive\, Whitehorse\, YT\, 1A 5G9\, Canada
CATEGORIES:Clinics
ATTACH;FMTTYPE=image/png:https://sunnyskyequine.com/wp-content/uploads/2022/04/2-2.png
ORGANIZER;CN="Angelique Bjork":MAILTO:barrelracingangel101@hotmail.ca
END:VEVENT
END:VCALENDAR