BEGIN:VCALENDAR
VERSION:2.0
PRODID:-//Sunny Sky Equine Services - ECPv6.15.18//NONSGML v1.0//EN
CALSCALE:GREGORIAN
METHOD:PUBLISH
X-ORIGINAL-URL:https://sunnyskyequine.com
X-WR-CALDESC:Events for Sunny Sky Equine Services
REFRESH-INTERVAL;VALUE=DURATION:PT1H
X-Robots-Tag:noindex
X-PUBLISHED-TTL:PT1H
BEGIN:VTIMEZONE
TZID:UTC
BEGIN:STANDARD
TZOFFSETFROM:+0000
TZOFFSETTO:+0000
TZNAME:UTC
DTSTART:20250101T000000
END:STANDARD
END:VTIMEZONE
BEGIN:VEVENT
DTSTART;VALUE=DATE:20260704
DTEND;VALUE=DATE:20260705
DTSTAMP:20260423T210601
CREATED:20230223T020948Z
LAST-MODIFIED:20260326T170229Z
UID:1261-1783123200-1783209599@sunnyskyequine.com
SUMMARY:Gymkhana Events Day #1
DESCRIPTION:Come join us for an exciting day of skills building and competition!  You will develop your horsemanship while participating in gymkhana events such as barrels\, poles\, keyhole\, stakes and more.  Guaranteed to be a day full of fun with a competitive edge.
URL:https://sunnyskyequine.com/event/gymkhana-events-day-1/
LOCATION:YT
CATEGORIES:Clinics
ATTACH;FMTTYPE=image/png:https://sunnyskyequine.com/wp-content/uploads/2023/02/7-2.png
END:VEVENT
BEGIN:VEVENT
DTSTART;VALUE=DATE:20260720
DTEND;VALUE=DATE:20260724
DTSTAMP:20260423T210601
CREATED:20220414T223407Z
LAST-MODIFIED:20260326T170049Z
UID:777-1784505600-1784851199@sunnyskyequine.com
SUMMARY:Show Camp
DESCRIPTION:Learn the basics and advanced concepts of showing your horse competitively. \n  \nEmail Angelique at sunnyskyequine@gmail.com for more info!
URL:https://sunnyskyequine.com/event/beginners-camp/
LOCATION:Sunny Sky Equine\, 15 Rodeo Drive\, Whitehorse\, YT\, 1A 5G9\, Canada
CATEGORIES:Camps
ATTACH;FMTTYPE=image/png:https://sunnyskyequine.com/wp-content/uploads/2022/04/6.png
ORGANIZER;CN="Angelique Bjork":MAILTO:barrelracingangel101@hotmail.ca
END:VEVENT
END:VCALENDAR